BEGIN:VCALENDAR
VERSION:2.0
PRODID:-//Merrylands RSL - ECPv6.15.16.1//NONSGML v1.0//EN
CALSCALE:GREGORIAN
METHOD:PUBLISH
X-WR-CALNAME:Merrylands RSL
X-ORIGINAL-URL:https://www.mrsl.com.au
X-WR-CALDESC:Events for Merrylands RSL
REFRESH-INTERVAL;VALUE=DURATION:PT1H
X-Robots-Tag:noindex
X-PUBLISHED-TTL:PT1H
BEGIN:VTIMEZONE
TZID:UTC
BEGIN:STANDARD
TZOFFSETFROM:+0000
TZOFFSETTO:+0000
TZNAME:UTC
DTSTART:20250101T000000
END:STANDARD
END:VTIMEZONE
BEGIN:VTIMEZONE
TZID:Australia/Sydney
BEGIN:STANDARD
TZOFFSETFROM:+1100
TZOFFSETTO:+1000
TZNAME:AEST
DTSTART:20250405T160000
END:STANDARD
BEGIN:DAYLIGHT
TZOFFSETFROM:+1000
TZOFFSETTO:+1100
TZNAME:AEDT
DTSTART:20251004T160000
END:DAYLIGHT
BEGIN:STANDARD
TZOFFSETFROM:+1100
TZOFFSETTO:+1000
TZNAME:AEST
DTSTART:20260404T160000
END:STANDARD
BEGIN:DAYLIGHT
TZOFFSETFROM:+1000
TZOFFSETTO:+1100
TZNAME:AEDT
DTSTART:20261003T160000
END:DAYLIGHT
BEGIN:STANDARD
TZOFFSETFROM:+1100
TZOFFSETTO:+1000
TZNAME:AEST
DTSTART:20270403T160000
END:STANDARD
BEGIN:DAYLIGHT
TZOFFSETFROM:+1000
TZOFFSETTO:+1100
TZNAME:AEDT
DTSTART:20271002T160000
END:DAYLIGHT
END:VTIMEZONE
BEGIN:VEVENT
DTSTART;TZID=UTC:20260422T180000
DTEND;TZID=UTC:20260422T200000
DTSTAMP:20260422T073124
CREATED:20220605T154655Z
LAST-MODIFIED:20220605T154655Z
UID:12326-1776880800-1776888000@www.mrsl.com.au
SUMMARY:Midweek Madness Raffle
DESCRIPTION:WEDNESDAY MIDWEEK MADNESS RAFFLE \n$3\,000 IN MYSTERY BOX VOUCHERS\, GIFTWARES & MEAT TRAYS TO BE WON \nTICKETS 6PM | DRAWN 7PM \nHELD IN THE BELMONT LOUNGE. $1 = 5 NUMBERS. T&C’S APPLY  
URL:https://www.mrsl.com.au/event/midweek-madness/2026-04-22/
LOCATION:Merrylands RSL foyer
CATEGORIES:what's on
ATTACH;FMTTYPE=image/jpeg:https://www.mrsl.com.au/wp-content/uploads/2025/12/Wednesday-Midweek-Madness-Raffle_2026_SQUARE-LT.jpg
END:VEVENT
BEGIN:VEVENT
DTSTART;TZID=Australia/Sydney:20260422T180000
DTEND;TZID=Australia/Sydney:20260422T211500
DTSTAMP:20260422T073124
CREATED:20260219T232606Z
LAST-MODIFIED:20260219T232606Z
UID:12327-1776880800-1776892500@www.mrsl.com.au
SUMMARY:Super Members Draw
DESCRIPTION:$6\,000 up for grabs every Wednesday nightat 6.00pm\, 7.00pm\, 8.00pm and 9.00pm \nJust be here when your name is drawn at random at the above times\, and $6\,000 cash is all yours… it’s that simple! \n$2\,000 SECOND CHANCEIf there’s no luck at the above draws… there are 4 x $500 cash prizes guaranteed to be won on the night! \nSimply swipe your membership card anytime from 6.00pm and place your entry into the second chance draw barrel & be here when your name is drawn. \n$6\,000 GUARANTEEDIf no member has won the $6\,000 prize during the month\, we will be guaranteeing 6 x $1\,000 cash prizes at the last Wednesday of the month. THESE PRIZES MUST BE WON!Every last Wednesday of the month\, simply swipe your membership card anytime from 12.00pm and place your entry into the barrel & be here for the draw. Draws remain from 6.00pm – 9.15pm. \nNo Winner found? 6 x $1\,000 CASH PRIZES from the barrel will be drawn from 9.15pm. \nFull Terms & Conditions available at Reception.\n			\n				\n				\n				\n				\n				If you’re looking for the best and exciting Club promotions and giveaways in Western Sydney including Merrylands\, Parramatta\, Wentworthville\, Guildford\, Smithfield\, Fairfield and surrounding suburbs\, then Merrylands RSL Club is THE place for you! \nCheck out our What’s On page to see the latest activities\, promotions and events at Merrylands RSL Club.
URL:https://www.mrsl.com.au/event/super-members-draw/2026-04-22/
LOCATION:Merrylands RSL foyer
CATEGORIES:what's on
ATTACH;FMTTYPE=image/jpeg:https://www.mrsl.com.au/wp-content/uploads/2026/02/Super-Members-Draw_0126_SQUARE-LT.jpg
END:VEVENT
BEGIN:VEVENT
DTSTART;TZID=Australia/Sydney:20260424T180000
DTEND;TZID=Australia/Sydney:20260424T200000
DTSTAMP:20260422T073124
CREATED:20251215T232907Z
LAST-MODIFIED:20251215T232907Z
UID:12344-1777053600-1777060800@www.mrsl.com.au
SUMMARY:Mystery Raffle
DESCRIPTION:FRIDAY MYSTERY RAFFLE \n$2\,200 IN PRIZES TO BE WON \nTICKETS 6PM | DRAWN 7PM \nHELD IN THE BELMONT LOUNGE. $1 = 5 NUMBERS. T&C’S APPLY
URL:https://www.mrsl.com.au/event/mystery-raffle/2026-04-24/
LOCATION:Merrylands RSL foyer
CATEGORIES:what's on
ATTACH;FMTTYPE=image/jpeg:https://www.mrsl.com.au/wp-content/uploads/2025/12/Friday-Mystery-Raffle_2026_SQUARE-LT.jpg
END:VEVENT
BEGIN:VEVENT
DTSTART;TZID=UTC:20260424T203000
DTEND;TZID=UTC:20260424T230000
DTSTAMP:20260422T073124
CREATED:20230329T171551Z
LAST-MODIFIED:20230329T171551Z
UID:12343-1777062600-1777071600@www.mrsl.com.au
SUMMARY:Free Live Entertainment
DESCRIPTION:Get ready to eat\, drink and dance the night away with the all-Filipino M7 Dance Band! This popular and energetic band performs English songs from different decades and some Filipino hits that will get you dancing! \nHeld upstairs in the Swan Room every last Friday* of the month from 8.30pm until 11.00pm. (Unless otherwise advertised) \nBar & Doors open at 7.30 PM
URL:https://www.mrsl.com.au/event/filipinofriday-2/2026-04-24/
CATEGORIES:what's on
ATTACH;FMTTYPE=image/jpeg:https://www.mrsl.com.au/wp-content/uploads/2025/12/Filipino-Fridays_0126_SQUARE-LT.jpg
END:VEVENT
BEGIN:VEVENT
DTSTART;VALUE=DATE:20260425
DTEND;VALUE=DATE:20260426
DTSTAMP:20260422T073124
CREATED:20260318T035741Z
LAST-MODIFIED:20260318T040056Z
UID:12301-1777075200-1777161599@www.mrsl.com.au
SUMMARY:ANZAC Day
DESCRIPTION:Lest We Forget\nEach year\, on ANZAC Day\, we pause to honour the courage\, sacrifice\, and enduring spirit of the men and women who have served our nation in times of war\, conflict\, and peacekeeping. \nMerrylands RSL Club\, together with the Merrylands RSL Sub-Branch\, invites the community to stand united in remembrance and gratitude. \nDawn Service & March Details\n5:00am – March FormationMerrylands RSL Club\, Miller Street \nVeterans\, service personnel\, and community groups will assemble before stepping off in a respectful march toward the service. \n5:30am – ANZAC Day Dawn ServiceCharles Mance Reserve\, Newman Street \nCommemorate Together\nFollowing the service\, the Club will open its doors to welcome the community. \nFrom 1:00pm – Two-Up (Swan Room)In keeping with ANZAC tradition\, Two-Up will be hosted as a symbol of mateship and shared history. \nWe encourage all members of the community\, young and old to attend\, pay their respects\, and ensure that the spirit of the ANZACs lives on.
URL:https://www.mrsl.com.au/event/anzac-day/
LOCATION:Merrylands RSL foyer
CATEGORIES:what's on
ATTACH;FMTTYPE=image/jpeg:https://www.mrsl.com.au/wp-content/uploads/2026/03/ANZAC-Day_2026_SQUARE.jpg
END:VEVENT
BEGIN:VEVENT
DTSTART;TZID=UTC:20260425T140000
DTEND;TZID=UTC:20260425T160000
DTSTAMP:20260422T073124
CREATED:20211124T180113Z
LAST-MODIFIED:20211124T180113Z
UID:12356-1777125600-1777132800@www.mrsl.com.au
SUMMARY:Quality Cuts Raffle
DESCRIPTION:SATURDAY QUALITY CUTS RAFFLE \n$2\,500 IN MEAT TRAYS TO BE WON \nTICKETS 2PM | DRAWN 3PM \nHELD IN THE BELMONT LOUNGE. $1 = 5 NUMBERS. T&C’S APPLY
URL:https://www.mrsl.com.au/event/quality-cuts/2026-04-25/
CATEGORIES:what's on
ATTACH;FMTTYPE=image/jpeg:https://www.mrsl.com.au/wp-content/uploads/2025/12/Saturday-Quality-Cuts_2026_SQUARE-LT.jpg
END:VEVENT
BEGIN:VEVENT
DTSTART;TZID=UTC:20260426T133000
DTEND;TZID=UTC:20260426T163000
DTSTAMP:20260422T073124
CREATED:20211124T172539Z
LAST-MODIFIED:20211124T172539Z
UID:12357-1777210200-1777221000@www.mrsl.com.au
SUMMARY:Supersized Raffle
DESCRIPTION:SUNDAY SUPERSIZED RAFFLE \n$5\,000 IN VOUCHERS AND GIFTWARE UP FOR GRABS. \nTICKETS 1:30PM | DRAWN 3:30PM \nEARLY DRAW 2:30PM | 5 X $200 EFTPOS CARDS TO BE WON \nHELD IN THE BELMONT LOUNGE. $1 = 5 NUMBERS. T&C’S APPLY
URL:https://www.mrsl.com.au/event/supersized-raffle/2026-04-26/
LOCATION:Merrylands RSL foyer
CATEGORIES:what's on
ATTACH;FMTTYPE=image/jpeg:https://www.mrsl.com.au/wp-content/uploads/2025/12/Sunday-Supersized-Raffle_2026_SQUARE-LT.jpg
END:VEVENT
BEGIN:VEVENT
DTSTART;TZID=UTC:20260427T183000
DTEND;TZID=UTC:20260427T203000
DTSTAMP:20260422T073124
CREATED:20241121T032842Z
LAST-MODIFIED:20260325T233725Z
UID:10321-1777314600-1777321800@www.mrsl.com.au
SUMMARY:MUM'S LUXE – MEGA RAFFLE
DESCRIPTION:Celebrate Mum in Style with Our Mum’s Luxe Mega Raffle \nSpoil Mum (or yourself) with the chance to win a share of $3\,500 in stunning prizes\, curated to add a touch of luxury and indulgence to her day. \nFrom elegant treats to feel-good essentials\, this is your opportunity to make Mum feel truly special. \nTickets on sale from 6.30pmDrawn 7.30pm📅 Monday 27 April📍 Merrylands RSL – everyone welcome \n💥 BONUS DRAW!Spend $20 and receive an entry into the bonus draw to win 1 of 3 x $50 cash vouchers. \nBring your friends\, family or workmates and enjoy a cosy evening of excitement\, prizes and community spirit.Perfect for locals from Merrylands\, Guildford\, Granville and Parramatta. \nDiscover more raffles and promotions here.
URL:https://www.mrsl.com.au/event/mega-raffle/
LOCATION:Merrylands RSL foyer
CATEGORIES:what's on
ATTACH;FMTTYPE=image/jpeg:https://www.mrsl.com.au/wp-content/uploads/2026/03/Mums-Luxe_Mega-Raffle_SQUARE-LT.jpg
END:VEVENT
BEGIN:VEVENT
DTSTART;TZID=Australia/Sydney:20260510T133000
DTEND;TZID=Australia/Sydney:20260510T153000
DTSTAMP:20260422T073124
CREATED:20260407T042614Z
LAST-MODIFIED:20260407T044545Z
UID:12380-1778419800-1778427000@www.mrsl.com.au
SUMMARY:MOTHER'S DAY $5\,000 RAFFLE
DESCRIPTION:Celebrate Mum in style this Mother’s Day with a special afternoon filled with great prizes\, a lively atmosphere\, and plenty of chances to win. \nJoin us for our Mother’s Day Raffle\, where you could take home a share of $5\,000 in prizes\, including EFTPOS cards – the perfect treat for Mum (or yourself). \nBring the family along\, settle in\, and enjoy the excitement as we draw the winners live in the Belmont Lounge. It’s a relaxed and rewarding way to spend your Sunday together. \nEvent Details📅 Sunday 10 May🎟 Tickets on sale: 1:30pm🌸 Early Draw: 2:30pm🎉 Major Draw: 3:30pm \nPrizes💰 5 x $200 EFTPOS Cards to be won \nFor just $1 = 5 numbers\, you’ll be in the running to win. \nThis special Mother’s Day raffle will replace our regular Sunday Supersized Raffle\, making it an extra special occasion for our members and guests. \nWhether you’re celebrating Mum\, Nan\, or someone special\, it’s a wonderful way to spend the afternoon with great company\, exciting prizes\, and a welcoming atmosphere. \nBring your friends\, family or workmates and enjoy a cosy evening of excitement\, prizes and community spirit.Perfect for locals from Merrylands\, Guildford\, Granville and Parramatta. \nDiscover more raffles and promotions here.
URL:https://www.mrsl.com.au/event/mothers-day-raffle/
CATEGORIES:what's on
ATTACH;FMTTYPE=image/jpeg:https://www.mrsl.com.au/wp-content/uploads/2026/04/Mothers-Day-Raffle_0526_SQUARE-LT.jpg
END:VEVENT
BEGIN:VEVENT
DTSTART;TZID=Australia/Sydney:20260515T200000
DTEND;TZID=Australia/Sydney:20260515T200000
DTSTAMP:20260422T073124
CREATED:20260306T002601Z
LAST-MODIFIED:20260412T234425Z
UID:12257-1778875200-1778875200@www.mrsl.com.au
SUMMARY:DINNER & SHOW: FILIPINO SPECTACULAR
DESCRIPTION:BOOK NOW
URL:https://www.mrsl.com.au/event/dinner-show-filipino/
LOCATION:Merrylands RSL foyer
CATEGORIES:what's on
ATTACH;FMTTYPE=image/jpeg:https://www.mrsl.com.au/wp-content/uploads/2026/03/Dinner-Show_0526_SQUARE-LT.jpg
END:VEVENT
BEGIN:VEVENT
DTSTART;VALUE=DATE:20260521
DTEND;VALUE=DATE:20260522
DTSTAMP:20260422T073124
CREATED:20260305T015043Z
LAST-MODIFIED:20260305T221550Z
UID:12246-1779321600-1779407999@www.mrsl.com.au
SUMMARY:Australia's Biggest Morning Tea
DESCRIPTION:Supporting Cancer Council’s Biggest Morning Tea\n			\n				\n				\n				\n				\n				\n			\n				\n				\n				\n				\n				We are proud to continue participating in Australia’s Biggest Morning Tea for another year. For many years\, our club community has come together to raise funds for cancer research\, prevention programs\, and vital support services for people affected by cancer. \nHosted by the Cancer Council\, Australia’s Biggest Morning Tea is one of the country’s most recognised community fundraisers. Every cup of tea shared and every dollar raised helps fund life-saving cancer research and support services for Australian families facing cancer. \n			\n				\n				\n				\n				\n				\nJoin Us and Make a Difference\nYou can support our fundraiser directly online by tapping the below link \nDONATE HERE \nEvery donation\, big or small\, brings us one step closer to improving cancer outcomes for Australians. \n			\n				\n				\n				\n				\n				\n\nSpecial Fundraising Activity – Thursday 21 May\nAs part of our fundraising efforts this year\, we will also be selling special fundraising cookies on Thursday 21 May during our Bingo and Cash Housie sessions. \nAll proceeds from the cookie sales will go directly toward our Australia’s Biggest Morning Tea fundraising total. So\, if you’re attending Bingo or Cash Housie that day\, make sure to grab a cookie and help support a great cause. \n			\n				\n				\n				\n				\n				Help bring us closer to a cancer free future
URL:https://www.mrsl.com.au/event/biggest-morning-tea/
CATEGORIES:what's on
ATTACH;FMTTYPE=image/png:https://www.mrsl.com.au/wp-content/uploads/2026/03/Biggest-morning-tea.png
END:VEVENT
BEGIN:VEVENT
DTSTART;TZID=Australia/Sydney:20260716T103000
DTEND;TZID=Australia/Sydney:20260716T120000
DTSTAMP:20260422T073124
CREATED:20260320T021202Z
LAST-MODIFIED:20260320T021301Z
UID:12319-1784197800-1784203200@www.mrsl.com.au
SUMMARY:Dance Party
DESCRIPTION:Get Tickets
URL:https://www.mrsl.com.au/event/dance-party/
LOCATION:Merrylands RSL foyer
CATEGORIES:what's on
ATTACH;FMTTYPE=image/jpeg:https://www.mrsl.com.au/wp-content/uploads/2026/03/Jayden-Dance-Party_2026_SQUARE-LT.jpg
END:VEVENT
END:VCALENDAR