BEGIN:VCALENDAR
VERSION:2.0
PRODID:-//Merrylands RSL - ECPv6.15.16.1//NONSGML v1.0//EN
CALSCALE:GREGORIAN
METHOD:PUBLISH
X-WR-CALNAME:Merrylands RSL
X-ORIGINAL-URL:https://www.mrsl.com.au
X-WR-CALDESC:Events for Merrylands RSL
REFRESH-INTERVAL;VALUE=DURATION:PT1H
X-Robots-Tag:noindex
X-PUBLISHED-TTL:PT1H
BEGIN:VTIMEZONE
TZID:Australia/Sydney
BEGIN:STANDARD
TZOFFSETFROM:+1100
TZOFFSETTO:+1000
TZNAME:AEST
DTSTART:20240406T160000
END:STANDARD
BEGIN:DAYLIGHT
TZOFFSETFROM:+1000
TZOFFSETTO:+1100
TZNAME:AEDT
DTSTART:20241005T160000
END:DAYLIGHT
BEGIN:STANDARD
TZOFFSETFROM:+1100
TZOFFSETTO:+1000
TZNAME:AEST
DTSTART:20250405T160000
END:STANDARD
BEGIN:DAYLIGHT
TZOFFSETFROM:+1000
TZOFFSETTO:+1100
TZNAME:AEDT
DTSTART:20251004T160000
END:DAYLIGHT
BEGIN:STANDARD
TZOFFSETFROM:+1100
TZOFFSETTO:+1000
TZNAME:AEST
DTSTART:20260404T160000
END:STANDARD
BEGIN:DAYLIGHT
TZOFFSETFROM:+1000
TZOFFSETTO:+1100
TZNAME:AEDT
DTSTART:20261003T160000
END:DAYLIGHT
END:VTIMEZONE
BEGIN:VEVENT
DTSTART;TZID=Australia/Sydney:20251206T140000
DTEND;TZID=Australia/Sydney:20251206T140000
DTSTAMP:20260423T182416
CREATED:20251120T011749Z
LAST-MODIFIED:20251120T012005Z
UID:11827-1765029600-1765029600@www.mrsl.com.au
SUMMARY:Christmas Ham Raffles
DESCRIPTION:Christmas Ham Raffles at Merrylands RSL\nCelebrate the festive season with our hugely popular Christmas Ham Raffles\, held across three weekends in December. This is the perfect way to stock up on delicious Christmas hams while enjoying a relaxed afternoon at the Club. \n\n\n\n\n\n\n\n\nDates\nSaturday 6\, 13 and 20 DecemberTickets on sale: 2.00pmDrawn: 3.00pm \nHeld in the Belmont Lounge. \nTicket Pricing\n$1 for 5 lucky numbersAffordable\, fun\, and great chances to win — ideal for regulars and families looking to join in the Christmas spirit. \n\nWhy Locals Love Our Ham Raffles\nMerrylands RSL attracts guests from Merrylands\, Parramatta\, Guildford\, Granville and the wider Western Sydney area\, making these raffles a community favourite each year. Guests can expect: Premium-quality Christmas hams\, a friendly and festive environment\, convenient location and parking quick and enjoyable afternoon draw.
URL:https://www.mrsl.com.au/event/christmas-ham-raffle/2025-12-06/
LOCATION:Merrylands RSL foyer
CATEGORIES:what's on
ATTACH;FMTTYPE=image/jpeg:https://www.mrsl.com.au/wp-content/uploads/2025/11/Christmas-Ham-Raffles_2025_SQUARE-LT.jpg
END:VEVENT
END:VCALENDAR